BEGIN:VCALENDAR
VERSION:2.0
PRODID:icalendar-ruby
CALSCALE:GREGORIAN
BEGIN:VEVENT
DTSTAMP:20260424T050004Z
UID:871128f8-b3b1-4bf5-80d4-29a2798a5192
DTSTART;VALUE=DATE:20210514
DESCRIPTION:Property ID# 506442\, Time: 4:00PM
SUMMARY:Auction for 
END:VEVENT
END:VCALENDAR
