BEGIN:VCALENDAR
VERSION:2.0
PRODID:icalendar-ruby
CALSCALE:GREGORIAN
BEGIN:VEVENT
DTSTAMP:20260423T223248Z
UID:03737e4b-44fc-446e-97a9-31dbc765d1dc
DTSTART;VALUE=DATE:20200409
DESCRIPTION:Property ID# 475263\, Time: 12:00PM
SUMMARY:Auction for 
END:VEVENT
END:VCALENDAR
