BEGIN:VCALENDAR
VERSION:2.0
PRODID:icalendar-ruby
CALSCALE:GREGORIAN
BEGIN:VEVENT
DTSTAMP:20260424T015503Z
UID:322cf359-4eac-4301-a7a5-fe32e9e740f0
DTSTART;VALUE=DATE:20200127
DESCRIPTION:Property ID# 469421\, Locatoin: On Site\, Time: 3:30PM
SUMMARY:Auction for 
END:VEVENT
END:VCALENDAR
